BEGIN:VCALENDAR
VERSION:2.0
PRODID:-//FBB Kompetenzzentrum - ECPv6.15.20//NONSGML v1.0//EN
CALSCALE:GREGORIAN
METHOD:PUBLISH
X-WR-CALNAME:FBB Kompetenzzentrum
X-ORIGINAL-URL:https://w3lausitz.de
X-WR-CALDESC:Veranstaltungen für FBB Kompetenzzentrum
REFRESH-INTERVAL;VALUE=DURATION:PT1H
X-Robots-Tag:noindex
X-PUBLISHED-TTL:PT1H
BEGIN:VTIMEZONE
TZID:Europe/Berlin
BEGIN:DAYLIGHT
TZOFFSETFROM:+0100
TZOFFSETTO:+0200
TZNAME:CEST
DTSTART:20250330T010000
END:DAYLIGHT
BEGIN:STANDARD
TZOFFSETFROM:+0200
TZOFFSETTO:+0100
TZNAME:CET
DTSTART:20251026T010000
END:STANDARD
BEGIN:DAYLIGHT
TZOFFSETFROM:+0100
TZOFFSETTO:+0200
TZNAME:CEST
DTSTART:20260329T010000
END:DAYLIGHT
BEGIN:STANDARD
TZOFFSETFROM:+0200
TZOFFSETTO:+0100
TZNAME:CET
DTSTART:20261025T010000
END:STANDARD
BEGIN:DAYLIGHT
TZOFFSETFROM:+0100
TZOFFSETTO:+0200
TZNAME:CEST
DTSTART:20270328T010000
END:DAYLIGHT
BEGIN:STANDARD
TZOFFSETFROM:+0200
TZOFFSETTO:+0100
TZNAME:CET
DTSTART:20271031T010000
END:STANDARD
END:VTIMEZONE
BEGIN:VEVENT
DTSTART;VALUE=DATE:20260825
DTEND;VALUE=DATE:20260826
DTSTAMP:20260421T131416
CREATED:20260106T093628Z
LAST-MODIFIED:20260106T140732Z
UID:10000034-1787616000-1787702399@w3lausitz.de
SUMMARY:Lausitz Festival (externe Veranstaltung)
DESCRIPTION:Das Lausitz Festival 2026 lädt ab dem 25. August zu drei Wochen voller Theater\, Musik\, Literatur\, Tanz und Kunst ein – ein europäisches Kulturereignis im Herzen der Lausitz.
URL:https://w3lausitz.de/veranstaltung/lausitz-festival-externe-veranstaltung/
CATEGORIES:externe Veranstaltung
ATTACH;FMTTYPE=image/jpeg:https://w3lausitz.de/wp-content/uploads/2025/06/pexels-guvo59-29105025.jpg
END:VEVENT
END:VCALENDAR