BEGIN:VCALENDAR
VERSION:2.0
PRODID:-//FBB Kompetenzzentrum - ECPv6.15.20//NONSGML v1.0//EN
CALSCALE:GREGORIAN
METHOD:PUBLISH
X-WR-CALNAME:FBB Kompetenzzentrum
X-ORIGINAL-URL:https://w3lausitz.de
X-WR-CALDESC:Veranstaltungen für FBB Kompetenzzentrum
REFRESH-INTERVAL;VALUE=DURATION:PT1H
X-Robots-Tag:noindex
X-PUBLISHED-TTL:PT1H
BEGIN:VTIMEZONE
TZID:Europe/Berlin
BEGIN:DAYLIGHT
TZOFFSETFROM:+0100
TZOFFSETTO:+0200
TZNAME:CEST
DTSTART:20250330T010000
END:DAYLIGHT
BEGIN:STANDARD
TZOFFSETFROM:+0200
TZOFFSETTO:+0100
TZNAME:CET
DTSTART:20251026T010000
END:STANDARD
BEGIN:DAYLIGHT
TZOFFSETFROM:+0100
TZOFFSETTO:+0200
TZNAME:CEST
DTSTART:20260329T010000
END:DAYLIGHT
BEGIN:STANDARD
TZOFFSETFROM:+0200
TZOFFSETTO:+0100
TZNAME:CET
DTSTART:20261025T010000
END:STANDARD
BEGIN:DAYLIGHT
TZOFFSETFROM:+0100
TZOFFSETTO:+0200
TZNAME:CEST
DTSTART:20270328T010000
END:DAYLIGHT
BEGIN:STANDARD
TZOFFSETFROM:+0200
TZOFFSETTO:+0100
TZNAME:CET
DTSTART:20271031T010000
END:STANDARD
END:VTIMEZONE
BEGIN:VEVENT
DTSTART;VALUE=DATE:20260509
DTEND;VALUE=DATE:20260510
DTSTAMP:20260421T100535
CREATED:20260420T083114Z
LAST-MODIFIED:20260420T083114Z
UID:10000048-1778284800-1778371199@w3lausitz.de
SUMMARY:Tour de BOOMTOWN Cottbus – Entdecke die Zukunft der Lausitz (externe Veranstaltung)
DESCRIPTION:Die Tour de BOOMTOWN Cottbus lädt dazu ein\, die dynamische Transformation der Lausitz hautnah zu erleben und zentrale Zukunftsorte\, innovative Projekte sowie engagierte Akteur:innen einer Region im Aufbruch kennenzulernen.
URL:https://w3lausitz.de/veranstaltung/tour-de-boomtown-cottbus-entdecke-die-zukunft-der-lausitz-externe-veranstaltung/
LOCATION:Cottbus
CATEGORIES:externe Veranstaltung
ATTACH;FMTTYPE=image/png:https://w3lausitz.de/wp-content/uploads/2025/12/Blogbilder-e1767890259462.png
END:VEVENT
BEGIN:VEVENT
DTSTART;TZID=Europe/Berlin:20260609T150000
DTEND;TZID=Europe/Berlin:20260609T180000
DTSTAMP:20260421T100535
CREATED:20260106T090651Z
LAST-MODIFIED:20260106T140938Z
UID:10000032-1781017200-1781028000@w3lausitz.de
SUMMARY:Rückblick mit Weitblick – Chancen nutzen\, Zukunft gestalten (externe Veranstaltung)
DESCRIPTION:Das 20. MinGenTec-Netzwerktreffen unter dem Motto „Ein Rückblick mit Weitblick – Chancen nutzen\, Zukunft gestalten“ bietet praxisnahen Austausch zu Innovation\, Internationalisierung und Vernetzung\, ergänzt durch eine Podiumsdiskussion im besonderen Ambiente des ehemaligen Dieselkraftwerks in der Lausitz.
URL:https://w3lausitz.de/veranstaltung/rueckblick-mit-weitblick-chancen-nutzen-zukunft-gestalten-externe-veranstaltung/
LOCATION:Cottbus
CATEGORIES:externe Veranstaltung
ATTACH;FMTTYPE=image/png:https://w3lausitz.de/wp-content/uploads/2025/08/Kulturwandel.png
END:VEVENT
BEGIN:VEVENT
DTSTART;TZID=Europe/Berlin:20260826T100000
DTEND;TZID=Europe/Berlin:20260826T160000
DTSTAMP:20260421T100535
CREATED:20260106T094423Z
LAST-MODIFIED:20260106T094423Z
UID:10000035-1787738400-1787760000@w3lausitz.de
SUMMARY:PAL-Abschlussveranstaltung: Intelligente Assistenz am Arbeitsplatz der Zukunft (externe Veranstaltung)
DESCRIPTION:Die PAL-Abschlussveranstaltung am 26. August 2026 in Cottbus präsentiert unter dem Thema „Intelligente Assistenz am Arbeitsplatz der Zukunft“ die Ergebnisse des Projekts und gibt spannende Einblicke in Vergangenheit\, Gegenwart und Zukunft der Arbeitswelt.
URL:https://w3lausitz.de/veranstaltung/pal-abschlussveranstaltung-intelligente-assistenz-am-arbeitsplatz-der-zukunft-externe-veranstaltung/
LOCATION:Cottbus
CATEGORIES:externe Veranstaltung
ATTACH;FMTTYPE=image/jpeg:https://w3lausitz.de/wp-content/uploads/2025/05/4677874cb01e305d96bd0fb62c46543584841ba6-scaled.jpg
END:VEVENT
BEGIN:VEVENT
DTSTART;VALUE=DATE:20261009
DTEND;VALUE=DATE:20261010
DTSTAMP:20260421T100535
CREATED:20260106T094712Z
LAST-MODIFIED:20260316T141459Z
UID:10000036-1791504000-1791590399@w3lausitz.de
SUMMARY:Nacht der kreativen Köpfe (externe Veranstaltung)
DESCRIPTION:Die „Nacht der kreativen Köpfe“ verwandelt Cottbus einmal im Jahr in eine Stadt voller Ideen\, Inspiration und Entdeckungen – mit spannenden Einblicken in Forschung\, Technik\, Kunst\, Kultur und Wirtschaft an zahlreichen Orten
URL:https://w3lausitz.de/veranstaltung/nacht-der-kreativen-koepfe-externe-veranstaltung/
LOCATION:Cottbus
CATEGORIES:externe Veranstaltung
ATTACH;FMTTYPE=image/jpeg:https://w3lausitz.de/wp-content/uploads/2025/05/sigmund-eTgMFFzroGc-unsplash.jpg
END:VEVENT
END:VCALENDAR