BEGIN:VCALENDAR
VERSION:2.0
PRODID:-//FBB Kompetenzzentrum - ECPv6.15.20//NONSGML v1.0//EN
CALSCALE:GREGORIAN
METHOD:PUBLISH
X-ORIGINAL-URL:https://w3lausitz.de
X-WR-CALDESC:Veranstaltungen für FBB Kompetenzzentrum
REFRESH-INTERVAL;VALUE=DURATION:PT1H
X-Robots-Tag:noindex
X-PUBLISHED-TTL:PT1H
BEGIN:VTIMEZONE
TZID:Europe/Berlin
BEGIN:DAYLIGHT
TZOFFSETFROM:+0100
TZOFFSETTO:+0200
TZNAME:CEST
DTSTART:20240331T010000
END:DAYLIGHT
BEGIN:STANDARD
TZOFFSETFROM:+0200
TZOFFSETTO:+0100
TZNAME:CET
DTSTART:20241027T010000
END:STANDARD
BEGIN:DAYLIGHT
TZOFFSETFROM:+0100
TZOFFSETTO:+0200
TZNAME:CEST
DTSTART:20250330T010000
END:DAYLIGHT
BEGIN:STANDARD
TZOFFSETFROM:+0200
TZOFFSETTO:+0100
TZNAME:CET
DTSTART:20251026T010000
END:STANDARD
BEGIN:DAYLIGHT
TZOFFSETFROM:+0100
TZOFFSETTO:+0200
TZNAME:CEST
DTSTART:20260329T010000
END:DAYLIGHT
BEGIN:STANDARD
TZOFFSETFROM:+0200
TZOFFSETTO:+0100
TZNAME:CET
DTSTART:20261025T010000
END:STANDARD
BEGIN:DAYLIGHT
TZOFFSETFROM:+0100
TZOFFSETTO:+0200
TZNAME:CEST
DTSTART:20270328T010000
END:DAYLIGHT
BEGIN:STANDARD
TZOFFSETFROM:+0200
TZOFFSETTO:+0100
TZNAME:CET
DTSTART:20271031T010000
END:STANDARD
END:VTIMEZONE
BEGIN:VEVENT
DTSTART;TZID=Europe/Berlin:20260226T110000
DTEND;TZID=Europe/Berlin:20260226T120000
DTSTAMP:20260421T114113
CREATED:20260106T090411Z
LAST-MODIFIED:20260106T090411Z
UID:10000031-1772103600-1772107200@w3lausitz.de
SUMMARY:PAL.Interaktiv präsentiert: Das Living und Learning Lab „Trainingsfabrik 4.0“ der Hochschule Mittweida (externe Veranstaltung)
DESCRIPTION:PAL.Interaktiv bietet im Online-Format Live-Einblicke in die Trainingsfabrik 4.0\, fachlichen Input zu Human Machine Interfaces und die Chance zum Austausch zwischen Unternehmen und Wissenschaft über moderne Fertigungslösungen.
URL:https://w3lausitz.de/veranstaltung/pal-interaktiv-praesentiert-das-living-und-learning-lab-trainingsfabrik-4-0-der-hochschule-mittweida-externe-veranstaltung/
LOCATION:online
CATEGORIES:externe Veranstaltung
ATTACH;FMTTYPE=image/jpeg:https://w3lausitz.de/wp-content/uploads/2025/05/sigmund-eTgMFFzroGc-unsplash-1.jpg
END:VEVENT
BEGIN:VEVENT
DTSTART;TZID=Europe/Berlin:20250917T100000
DTEND;TZID=Europe/Berlin:20250917T120000
DTSTAMP:20260421T114113
CREATED:20250729T082037Z
LAST-MODIFIED:20250922T104956Z
UID:10000016-1758103200-1758110400@w3lausitz.de
SUMMARY:Generationswechsel in der Lausitz – Wie dem altersbedingten Fachkräftemangel begegnet werden kann (externe Veranstaltung)
DESCRIPTION:Die Online-Veranstaltung thematisiert den altersbedingten Fachkräftemangel in der Lausitz und beleuchtet anhand eines Impulsvortrags\, einer Podiumsdiskussion mit regionalen Expert*innen sowie Fragerunden\, wie Ausbildung und weitere Maßnahmen zur Fachkräftesicherung beitragen können.
URL:https://w3lausitz.de/veranstaltung/generationswechsel-in-der-lausitz-wie-dem-altersbedingten-fachkraeftemangel-begegnet-werden-kann/
LOCATION:online
CATEGORIES:externe Veranstaltung
ATTACH;FMTTYPE=image/png:https://w3lausitz.de/wp-content/uploads/2025/06/Stage-Veranstaltung.png
END:VEVENT
BEGIN:VEVENT
DTSTART;TZID=Europe/Berlin:20250912T100000
DTEND;TZID=Europe/Berlin:20250912T120000
DTSTAMP:20260421T114113
CREATED:20250729T081448Z
LAST-MODIFIED:20250922T105003Z
UID:10000015-1757671200-1757678400@w3lausitz.de
SUMMARY:Digitaler Workshop: Klimaschutz und Energiewende in Lausitzer Kommunen (externe Veranstaltung)
DESCRIPTION:Der Online-Workshop thematisiert die Herausforderungen der kommunalen Energie-\, Wärme- und Mobilitätswende und stellt aktuelle Förderprogramme sowie erfolgreiche Praxisbeispiele vor. Ziel ist es\, Strategien für Klimaschutz trotz knapper Ressourcen aufzuzeigen. Teilnehmende erhalten praktische Einblicke und können sich aktiv austauschen.
URL:https://w3lausitz.de/veranstaltung/digitaler-workshop-klimaschutz-und-energiewende-in-lausitzer-kommunen/
LOCATION:online
CATEGORIES:externe Veranstaltung
ATTACH;FMTTYPE=image/jpeg:https://w3lausitz.de/wp-content/uploads/2025/05/sigmund-eTgMFFzroGc-unsplash-1.jpg
END:VEVENT
BEGIN:VEVENT
DTSTART;TZID=Europe/Berlin:20250813T130000
DTEND;TZID=Europe/Berlin:20250813T140000
DTSTAMP:20260421T114113
CREATED:20250729T074957Z
LAST-MODIFIED:20250922T105024Z
UID:10000011-1755090000-1755093600@w3lausitz.de
SUMMARY:KI im Mittelstand | Überblick und Einsatzmöglichkeiten (externe Veranstaltung)
DESCRIPTION:Der kostenfreie Online-Workshop vermittelt kleinen und mittleren Unternehmen sowie Interessierten praxisnahe Grundlagen und Einsatzmöglichkeiten von Künstlicher Intelligenz wie ChatGPT zur Effizienzsteigerung\, ergänzt durch Lernmaterialien auf einer digitalen Plattform.
URL:https://w3lausitz.de/veranstaltung/ki-im-mittelstand-ueberblick-und-einsatzmoeglichkeiten/
LOCATION:online
CATEGORIES:externe Veranstaltung
ATTACH;FMTTYPE=image/png:https://w3lausitz.de/wp-content/uploads/2025/06/Stege-Projeckte.png
END:VEVENT
END:VCALENDAR